BEGIN:VCALENDAR
VERSION:2.0
PRODID:-//Center for Behavior, Evolution, and Culture - ECPv6.15.20//NONSGML v1.0//EN
CALSCALE:GREGORIAN
METHOD:PUBLISH
X-WR-CALNAME:Center for Behavior, Evolution, and Culture
X-ORIGINAL-URL:https://bec.ucla.edu
X-WR-CALDESC:Events for Center for Behavior, Evolution, and Culture
REFRESH-INTERVAL;VALUE=DURATION:PT1H
X-Robots-Tag:noindex
X-PUBLISHED-TTL:PT1H
BEGIN:VTIMEZONE
TZID:America/Los_Angeles
BEGIN:DAYLIGHT
TZOFFSETFROM:-0800
TZOFFSETTO:-0700
TZNAME:PDT
DTSTART:20230312T100000
END:DAYLIGHT
BEGIN:STANDARD
TZOFFSETFROM:-0700
TZOFFSETTO:-0800
TZNAME:PST
DTSTART:20231105T090000
END:STANDARD
BEGIN:DAYLIGHT
TZOFFSETFROM:-0800
TZOFFSETTO:-0700
TZNAME:PDT
DTSTART:20240310T100000
END:DAYLIGHT
BEGIN:STANDARD
TZOFFSETFROM:-0700
TZOFFSETTO:-0800
TZNAME:PST
DTSTART:20241103T090000
END:STANDARD
BEGIN:DAYLIGHT
TZOFFSETFROM:-0800
TZOFFSETTO:-0700
TZNAME:PDT
DTSTART:20250309T100000
END:DAYLIGHT
BEGIN:STANDARD
TZOFFSETFROM:-0700
TZOFFSETTO:-0800
TZNAME:PST
DTSTART:20251102T090000
END:STANDARD
END:VTIMEZONE
BEGIN:VEVENT
DTSTART;TZID=America/Los_Angeles:20241007T180000
DTEND;TZID=America/Los_Angeles:20241007T210000
DTSTAMP:20260419T064015
CREATED:20240903T000223Z
LAST-MODIFIED:20240921T184608Z
UID:7553-1728324000-1728334800@bec.ucla.edu
SUMMARY:Chimp Empire - A Screening and Panel Discussion with the Filmmakers [RSVP required; Note special time and location]
DESCRIPTION:Chimp Empire – A Screening and Panel Discussion with the Filmmakers\nFeaturing \nSara Edelson\nManager of Original Documentary Programming\, Netflix \nJames Reed\nDirector\, Chimp Empire \nJohn Mitani\nProfessor Emeritus of Anthropology\, University of Michigan \nmoderated by\nClark Barrett\nProfessor\, UCLA Department of Anthropology and\nDirector\, UCLA Center for Behavior\, Evolution and Culture \nand \nAbigail Bigham\nAssociate Professor\, UCLA Department of Anthropology\nVice Chair for Undergraduate Studies \n  \nReception to follow \nThis event is open to the public\, RSVP required. Please RSVP at: https://eventsrsvp.ucla.edu/ChimpEmpire/logon.aspx?NoID=Y
URL:https://bec.ucla.edu/event/chimp-empire-a-screening-and-panel-discussion-with-the-filmmakers/
LOCATION:CNSI
CATEGORIES:2024,Presentation,Upcoming Presentation
END:VEVENT
BEGIN:VEVENT
DTSTART;TZID=America/Los_Angeles:20241010T120000
DTEND;TZID=America/Los_Angeles:20241010T133000
DTSTAMP:20260419T064015
CREATED:20240903T000634Z
LAST-MODIFIED:20241018T172826Z
UID:7559-1728561600-1728567000@bec.ucla.edu
SUMMARY:Gary Brase - How to incite a scientific revolution: A practical framework of converging evidence for behavioral sciences integration [Note special time and location]
DESCRIPTION:How to incite a scientific revolution: A practical framework of converging evidence for behavioral sciences integration\nGary Brase\nKansas State University\nIf science is about the pursuit of truth\, why do so many scientists disagree? Everyone should agree\, at least on most things\, according to the idea that there is a consistency of sciences. Others point out that science instead has repeated revolutions\, in which one worldview is overthrown for a new worldview. The aim of this work is to outline a way to move behavioral sciences towards greater unity with an integrated framework (possibly inciting revolutions in the process). This is a more practical rather than philosophical approach\, that is designed for researchers and others to use as a framework for better evaluating and advancing their chosen research topics. This work integrates previous frameworks (Marr’s computational framework\, Tinbergen’s four questions\, Schmitt & Pilcher’s converging evidence model) to be more comprehensive\, complete\, and specifically for the behavioral sciences. The goal is to help behavioral scientists\, and other people who pay attention to and evaluate science\, with a framework for thinking about topics. We will talk about the advantages and issues of this integrated framework\, and examples of using the framework for specific topics. \nNote: This event will be held on a Thursday\, at the Discourse Lab in Haines Hall\, which has limited space (15 people max). Arrive early to get a seat. Also\, lunch will not be served for this event. \n 
URL:https://bec.ucla.edu/event/gary-brase-how-to-incite-a-scientific-revolution-a-practical-framework-of-converging-evidence-for-behavioral-sciences-integration/
LOCATION:Haines 332 (Discourse Lab)
CATEGORIES:2024,Past Presentation,Presentation
END:VEVENT
BEGIN:VEVENT
DTSTART;TZID=America/Los_Angeles:20241021T120000
DTEND;TZID=America/Los_Angeles:20241021T133000
DTSTAMP:20260419T064015
CREATED:20240909T212303Z
LAST-MODIFIED:20250116T200154Z
UID:7571-1729512000-1729517400@bec.ucla.edu
SUMMARY:Irene Godoy - Kinship as constraint: Social aging in kin-structured groups
DESCRIPTION:Kinship as constraint: Social aging in kin-structured groups\nIrene Godoy\nCentre for Research in Animal Behaviour (CRAB)\, University of Exeter\nThe dramatic increase in human life expectancy poses new challenges for health care systems. Among those challenges is that social isolation and loneliness as risk factors for mortality are highest among the elderly. We know that the social networks of adults tend to decrease in size with advancing age. However\, what factors influence the rate at which an individual’s social network decreases? The answers to this question are critical to inform interventions aimed at improving late-life outcomes. In my talk\, I will discuss comparative research in free-ranging\, long-lived species to address age-related declines in human social integration. I will focus on non-human primates because of their close evolutionary link to humans and their long lifespans. Research in non-human primates has demonstrated similar age-related declines in sociality\, though the drivers of these patterns are not well-understood. Group-living primates typically show strong kin biases in their association patterns. One key factor that may thus contribute to individual differences in social aging is kinship dynamics\, as the type and number of close kin available changes across an individual’s lifespan. Drawing on data from a wild capuchin population\, I will present results showing that both males and females show declines in their rates of spatial association as they age. Interestingly\, age-related declines vary depending on the kinship relationship with social partners\, and these effects are sex dependent. I will discuss how these (and other) results shed light on some of the myriad ways in which kinship dynamics may place constraints on how ‘social’ individuals can remain across development.
URL:https://bec.ucla.edu/event/irene-godoy-kinship-as-constraint-social-aging-in-kin-structured-groups/
LOCATION:352 Haines Hall
CATEGORIES:2024,Past Presentation,Presentation
END:VEVENT
END:VCALENDAR